BEGIN:VCALENDAR
VERSION:2.0
PRODID:-//Centre d’Appui pour la Prévention des Infections Associées aux Soins - ECPv5.12.4//NONSGML v1.0//EN
CALSCALE:GREGORIAN
METHOD:PUBLISH
X-WR-CALNAME:Centre d’Appui pour la Prévention des Infections Associées aux Soins
X-ORIGINAL-URL:https://cpias-occitanie.fr
X-WR-CALDESC:Évènements pour Centre d’Appui pour la Prévention des Infections Associées aux Soins
BEGIN:VTIMEZONE
TZID:Europe/Paris
BEGIN:DAYLIGHT
TZOFFSETFROM:+0100
TZOFFSETTO:+0200
TZNAME:CEST
DTSTART:20230326T010000
END:DAYLIGHT
BEGIN:STANDARD
TZOFFSETFROM:+0200
TZOFFSETTO:+0100
TZNAME:CET
DTSTART:20231029T010000
END:STANDARD
END:VTIMEZONE
BEGIN:VEVENT
DTSTART;TZID=Europe/Paris:20231128T080000
DTEND;TZID=Europe/Paris:20231128T170000
DTSTAMP:20260423T105753
CREATED:20230119T114531Z
LAST-MODIFIED:20230607T122828Z
UID:10470-1701158400-1701190800@cpias-occitanie.fr
SUMMARY:Formation : Construire son DAMRI et faire vivre le plan d’actions - J2
DESCRIPTION:[vc_row][vc_column][vc_column_text]400 euros pour les 2 journées de formation. \nDétails et inscription \n  \n[/vc_column_text][/vc_column][/vc_row]
URL:https://cpias-occitanie.fr/evenement/formation-construire-son-damri-et-faire-vivre-le-plan-dactions-j2/
LOCATION:ESAT Les ateliers Via Europa\, 3 avenue de l’Europe\, VENDRES\, 34350
CATEGORIES:Établissements médico-sociaux
ORGANIZER;CN="CPias%20Occitanie%20Montpellier":MAILTO:cpias-occitanie@chu-montpellier.fr
END:VEVENT
END:VCALENDAR