BEGIN:VCALENDAR
VERSION:2.0
PRODID:-//Centre d’Appui pour la Prévention des Infections Associées aux Soins - ECPv5.12.4//NONSGML v1.0//EN
CALSCALE:GREGORIAN
METHOD:PUBLISH
X-WR-CALNAME:Centre d’Appui pour la Prévention des Infections Associées aux Soins
X-ORIGINAL-URL:https://cpias-occitanie.fr
X-WR-CALDESC:Évènements pour Centre d’Appui pour la Prévention des Infections Associées aux Soins
BEGIN:VTIMEZONE
TZID:Europe/Paris
BEGIN:DAYLIGHT
TZOFFSETFROM:+0100
TZOFFSETTO:+0200
TZNAME:CEST
DTSTART:20230326T010000
END:DAYLIGHT
BEGIN:STANDARD
TZOFFSETFROM:+0200
TZOFFSETTO:+0100
TZNAME:CET
DTSTART:20231029T010000
END:STANDARD
END:VTIMEZONE
BEGIN:VEVENT
DTSTART;TZID=Europe/Paris:20230608T090000
DTEND;TZID=Europe/Paris:20230608T170000
DTSTAMP:20260424T063745
CREATED:20220228T133054Z
LAST-MODIFIED:20230526T095231Z
UID:8929-1686214800-1686243600@cpias-occitanie.fr
SUMMARY:REPORT Septembre // Formation : Référent IAS en EMS - J3 (MTP)
DESCRIPTION:[vc_row][vc_column][vc_column_text]Session sur 3 jours consécutifs (21h) \nLa session des 6\, 7 et 8 juin 2023 est reportée aux 25\, 26 et 27 septembre 2023 \nDétails et inscription[/vc_column_text][/vc_column][/vc_row]
URL:https://cpias-occitanie.fr/evenement/formation-referent-ias-en-etablissement-medico-social-j3-mtp/
LOCATION:Mas des Moulins – Montpellier\, 2452 avenue du Père Soulas\, Montpellier\, 34090\, France
CATEGORIES:Établissements médico-sociaux
ORGANIZER;CN="CPias%20Occitanie%20Montpellier":MAILTO:cpias-occitanie@chu-montpellier.fr
END:VEVENT
END:VCALENDAR