BEGIN:VCALENDAR
VERSION:2.0
PRODID:-//Centre d’Appui pour la Prévention des Infections Associées aux Soins - ECPv5.12.4//NONSGML v1.0//EN
CALSCALE:GREGORIAN
METHOD:PUBLISH
X-WR-CALNAME:Centre d’Appui pour la Prévention des Infections Associées aux Soins
X-ORIGINAL-URL:https://cpias-occitanie.fr
X-WR-CALDESC:Évènements pour Centre d’Appui pour la Prévention des Infections Associées aux Soins
BEGIN:VTIMEZONE
TZID:Europe/Paris
BEGIN:DAYLIGHT
TZOFFSETFROM:+0100
TZOFFSETTO:+0200
TZNAME:CEST
DTSTART:20230326T010000
END:DAYLIGHT
BEGIN:STANDARD
TZOFFSETFROM:+0200
TZOFFSETTO:+0100
TZNAME:CET
DTSTART:20231029T010000
END:STANDARD
END:VTIMEZONE
BEGIN:VEVENT
DTSTART;TZID=Europe/Paris:20230613T090000
DTEND;TZID=Europe/Paris:20230613T170000
DTSTAMP:20260424T051358
CREATED:20221202T142735Z
LAST-MODIFIED:20230524T080527Z
UID:10164-1686646800-1686675600@cpias-occitanie.fr
SUMMARY:(Report en 2024) Formation Référents vaccination en EMS (Lézignan)
DESCRIPTION:[vc_row][vc_column][vc_column_text]Accéder au programme[/vc_column_text][/vc_column][/vc_row]
URL:https://cpias-occitanie.fr/evenement/formation-referents-vaccination-en-ems-lezignan/
CATEGORIES:Établissements médico-sociaux
ORGANIZER;CN="CPias%20Occitanie%20Toulouse":MAILTO:cpias-occitanie@chu-toulouse.fr
END:VEVENT
END:VCALENDAR