BEGIN:VCALENDAR
VERSION:2.0
PRODID:-//Centre d’Appui pour la Prévention des Infections Associées aux Soins - ECPv5.12.4//NONSGML v1.0//EN
CALSCALE:GREGORIAN
METHOD:PUBLISH
X-WR-CALNAME:Centre d’Appui pour la Prévention des Infections Associées aux Soins
X-ORIGINAL-URL:https://cpias-occitanie.fr
X-WR-CALDESC:Évènements pour Centre d’Appui pour la Prévention des Infections Associées aux Soins
BEGIN:VTIMEZONE
TZID:Europe/Paris
BEGIN:DAYLIGHT
TZOFFSETFROM:+0100
TZOFFSETTO:+0200
TZNAME:CEST
DTSTART:20190331T010000
END:DAYLIGHT
BEGIN:STANDARD
TZOFFSETFROM:+0200
TZOFFSETTO:+0100
TZNAME:CET
DTSTART:20191027T010000
END:STANDARD
END:VTIMEZONE
BEGIN:VEVENT
DTSTART;TZID=Europe/Paris:20190405T093000
DTEND;TZID=Europe/Paris:20190405T170000
DTSTAMP:20260421T175455
CREATED:20180919T140342Z
LAST-MODIFIED:20190325T105030Z
UID:2473-1554456600-1554483600@cpias-occitanie.fr
SUMMARY:Journée des Praticiens Hygiénistes (Carcassonne)
DESCRIPTION:[vc_row][vc_column][vc_column_text]Cette journée s’adresse au réseau des praticiens hygiénistes de la région Occitanie. \nDétail du programme[/vc_column_text][/vc_column][/vc_row]
URL:https://cpias-occitanie.fr/evenement/journee-du-reseau-des-ph/
LOCATION:Centre Hospitalier de Carcassonne\, 1060 Chemin de la Madeleine – CS 40001\, Carcassonne\, 11010\, France
CATEGORIES:Établissements sanitaires
ORGANIZER;CN="CPias%20Occitanie%20Montpellier":MAILTO:cpias-occitanie@chu-montpellier.fr
END:VEVENT
END:VCALENDAR