BEGIN:VCALENDAR
VERSION:2.0
PRODID:-//Centre d’Appui pour la Prévention des Infections Associées aux Soins - ECPv5.12.4//NONSGML v1.0//EN
CALSCALE:GREGORIAN
METHOD:PUBLISH
X-WR-CALNAME:Centre d’Appui pour la Prévention des Infections Associées aux Soins
X-ORIGINAL-URL:https://cpias-occitanie.fr
X-WR-CALDESC:Évènements pour Centre d’Appui pour la Prévention des Infections Associées aux Soins
BEGIN:VTIMEZONE
TZID:Europe/Paris
BEGIN:DAYLIGHT
TZOFFSETFROM:+0100
TZOFFSETTO:+0200
TZNAME:CEST
DTSTART:20240331T010000
END:DAYLIGHT
BEGIN:STANDARD
TZOFFSETFROM:+0200
TZOFFSETTO:+0100
TZNAME:CET
DTSTART:20241027T010000
END:STANDARD
END:VTIMEZONE
BEGIN:VEVENT
DTSTART;TZID=Europe/Paris:20240614T080000
DTEND;TZID=Europe/Paris:20240614T170000
DTSTAMP:20260421T163500
CREATED:20240315T123927Z
LAST-MODIFIED:20240528T130252Z
UID:12847-1718352000-1718384400@cpias-occitanie.fr
SUMMARY:Journée Prévention du risque infectieux en MAS\, FAM\, IEM
DESCRIPTION:[vc_row][vc_column][vc_column_text]Plus d’informations[/vc_column_text][/vc_column][/vc_row]
URL:https://cpias-occitanie.fr/evenement/journee-prevention-du-risque-infectieux-en-mas-fam-iem/
LOCATION:Résidence les Aigues Marines\, 1021\, 1131 Bd du Docteur Jean Bastide\, Le Grau-du-Roi\, 30240\, France
CATEGORIES:Établissements médico-sociaux
ORGANIZER;CN="CPias%20Occitanie%20Montpellier":MAILTO:cpias-occitanie@chu-montpellier.fr
END:VEVENT
END:VCALENDAR