BEGIN:VCALENDAR
VERSION:2.0
PRODID:-//Centre d’Appui pour la Prévention des Infections Associées aux Soins - ECPv5.12.4//NONSGML v1.0//EN
CALSCALE:GREGORIAN
METHOD:PUBLISH
X-WR-CALNAME:Centre d’Appui pour la Prévention des Infections Associées aux Soins
X-ORIGINAL-URL:https://cpias-occitanie.fr
X-WR-CALDESC:Évènements pour Centre d’Appui pour la Prévention des Infections Associées aux Soins
BEGIN:VTIMEZONE
TZID:Europe/Paris
BEGIN:DAYLIGHT
TZOFFSETFROM:+0100
TZOFFSETTO:+0200
TZNAME:CEST
DTSTART:20260329T010000
END:DAYLIGHT
BEGIN:STANDARD
TZOFFSETFROM:+0200
TZOFFSETTO:+0100
TZNAME:CET
DTSTART:20261025T010000
END:STANDARD
END:VTIMEZONE
BEGIN:VEVENT
DTSTART;TZID=Europe/Paris:20261105T080000
DTEND;TZID=Europe/Paris:20261105T170000
DTSTAMP:20260422T155035
CREATED:20260413T085210Z
LAST-MODIFIED:20260413T085210Z
UID:17213-1793865600-1793898000@cpias-occitanie.fr
SUMMARY:Journée PRI en dialyse
DESCRIPTION:[vc_row][vc_column][vc_column_text]Plus d’informations à venir…[/vc_column_text][/vc_column][/vc_row]
URL:https://cpias-occitanie.fr/evenement/journee-pri-en-dialyse/
LOCATION:Lézignan-Corbières\, Lézignan-Corbières\, 11200\, France
ORGANIZER;CN="CPias%20Occitanie%20Montpellier":MAILTO:cpias-occitanie@chu-montpellier.fr
END:VEVENT
END:VCALENDAR