BEGIN:VCALENDAR
VERSION:2.0
PRODID:-//Centre d’Appui pour la Prévention des Infections Associées aux Soins - ECPv5.12.4//NONSGML v1.0//EN
CALSCALE:GREGORIAN
METHOD:PUBLISH
X-WR-CALNAME:Centre d’Appui pour la Prévention des Infections Associées aux Soins
X-ORIGINAL-URL:https://cpias-occitanie.fr
X-WR-CALDESC:Évènements pour Centre d’Appui pour la Prévention des Infections Associées aux Soins
BEGIN:VTIMEZONE
TZID:Europe/Paris
BEGIN:DAYLIGHT
TZOFFSETFROM:+0100
TZOFFSETTO:+0200
TZNAME:CEST
DTSTART:20230326T010000
END:DAYLIGHT
BEGIN:STANDARD
TZOFFSETFROM:+0200
TZOFFSETTO:+0100
TZNAME:CET
DTSTART:20231029T010000
END:STANDARD
END:VTIMEZONE
BEGIN:VEVENT
DTSTART;TZID=Europe/Paris:20231003T093000
DTEND;TZID=Europe/Paris:20231003T170000
DTSTAMP:20260423T164256
CREATED:20221202T133936Z
LAST-MODIFIED:20221202T133936Z
UID:10139-1696325400-1696352400@cpias-occitanie.fr
SUMMARY:Journée régionale de prévention des IAS en Aubrac
DESCRIPTION:[vc_row][vc_column][vc_column_text]Accéder au programme [/vc_column_text][/vc_column][/vc_row]
URL:https://cpias-occitanie.fr/evenement/journee-regionale-de-prevention-des-ias-en-aubrac-2/
LOCATION:Salle des fêtes de Rodez\, 1\, Bvd du 122e Régiment d’Infanterie\, Rodez\, 12000\, France
CATEGORIES:Établissements sanitaires
ORGANIZER;CN="CPias%20Occitanie%20Toulouse":MAILTO:cpias-occitanie@chu-toulouse.fr
END:VEVENT
END:VCALENDAR