BEGIN:VCALENDAR
VERSION:2.0
PRODID:-//Centre d’Appui pour la Prévention des Infections Associées aux Soins - ECPv5.12.4//NONSGML v1.0//EN
CALSCALE:GREGORIAN
METHOD:PUBLISH
X-WR-CALNAME:Centre d’Appui pour la Prévention des Infections Associées aux Soins
X-ORIGINAL-URL:https://cpias-occitanie.fr
X-WR-CALDESC:Évènements pour Centre d’Appui pour la Prévention des Infections Associées aux Soins
BEGIN:VTIMEZONE
TZID:Europe/Paris
BEGIN:DAYLIGHT
TZOFFSETFROM:+0100
TZOFFSETTO:+0200
TZNAME:CEST
DTSTART:20240331T010000
END:DAYLIGHT
BEGIN:STANDARD
TZOFFSETFROM:+0200
TZOFFSETTO:+0100
TZNAME:CET
DTSTART:20241027T010000
END:STANDARD
END:VTIMEZONE
BEGIN:VEVENT
DTSTART;TZID=Europe/Paris:20240425T090000
DTEND;TZID=Europe/Paris:20240425T170000
DTSTAMP:20260421T133804
CREATED:20231005T141827Z
LAST-MODIFIED:20240315T125036Z
UID:11568-1714035600-1714064400@cpias-occitanie.fr
SUMMARY:Réseau des Professionnels en Prévention et Contrôle de l’Infection (RéP-PCI)
DESCRIPTION:[vc_row][vc_column][vc_column_text]Accéder aux détails[/vc_column_text][/vc_column][/vc_row]
URL:https://cpias-occitanie.fr/evenement/reseau-des-professionnels-en-prevention-et-controle-de-linfection-rep-pci/
LOCATION:CCI AUDE – Narbonne\, 1 avenue du forum - CS 47101\, Narbonne\, 11785
CATEGORIES:Établissements sanitaires
ORGANIZER;CN="CPias%20Occitanie%20Montpellier":MAILTO:cpias-occitanie@chu-montpellier.fr
END:VEVENT
END:VCALENDAR