BEGIN:VCALENDAR
VERSION:2.0
PRODID:-//Centre d’Appui pour la Prévention des Infections Associées aux Soins - ECPv5.12.4//NONSGML v1.0//EN
CALSCALE:GREGORIAN
METHOD:PUBLISH
X-WR-CALNAME:Centre d’Appui pour la Prévention des Infections Associées aux Soins
X-ORIGINAL-URL:https://cpias-occitanie.fr
X-WR-CALDESC:Évènements pour Centre d’Appui pour la Prévention des Infections Associées aux Soins
BEGIN:VTIMEZONE
TZID:Europe/Paris
BEGIN:DAYLIGHT
TZOFFSETFROM:+0100
TZOFFSETTO:+0200
TZNAME:CEST
DTSTART:20230326T010000
END:DAYLIGHT
BEGIN:STANDARD
TZOFFSETFROM:+0200
TZOFFSETTO:+0100
TZNAME:CET
DTSTART:20231029T010000
END:STANDARD
END:VTIMEZONE
BEGIN:VEVENT
DTSTART;TZID=Europe/Paris:20230914T140000
DTEND;TZID=Europe/Paris:20230914T150000
DTSTAMP:20260423T210432
CREATED:20230727T135251Z
LAST-MODIFIED:20230727T135413Z
UID:11234-1694700000-1694703600@cpias-occitanie.fr
SUMMARY:WEBINAIRE : Dépasser l’hésitation vaccinale par l’ESCAPE GAME !
DESCRIPTION:[vc_row][vc_column][vc_column_text]Pour vous préparer à la campagne antigrippale et/ou intégrer l’escape game dans vos actions de la semaine sécurité patients\, n’hésitez pas à vous inscrire afin d’obtenir toutes les réponses à vos questions ! \nAccéder aux codes de connexion[/vc_column_text][/vc_column][/vc_row]
URL:https://cpias-occitanie.fr/evenement/webinaire-depasser-lhesitation-vaccinale-par-lescape-game/
CATEGORIES:Établissements médico-sociaux,Établissements sanitaires
ORGANIZER;CN="CPias%20Occitanie%20Toulouse":MAILTO:cpias-occitanie@chu-toulouse.fr
END:VEVENT
END:VCALENDAR