BEGIN:VCALENDAR
VERSION:2.0
PRODID:-//Centre d’Appui pour la Prévention des Infections Associées aux Soins - ECPv5.12.4//NONSGML v1.0//EN
CALSCALE:GREGORIAN
METHOD:PUBLISH
X-WR-CALNAME:Centre d’Appui pour la Prévention des Infections Associées aux Soins
X-ORIGINAL-URL:https://cpias-occitanie.fr
X-WR-CALDESC:Évènements pour Centre d’Appui pour la Prévention des Infections Associées aux Soins
BEGIN:VTIMEZONE
TZID:Europe/Paris
BEGIN:DAYLIGHT
TZOFFSETFROM:+0100
TZOFFSETTO:+0200
TZNAME:CEST
DTSTART:20240331T010000
END:DAYLIGHT
BEGIN:STANDARD
TZOFFSETFROM:+0200
TZOFFSETTO:+0100
TZNAME:CET
DTSTART:20241027T010000
END:STANDARD
END:VTIMEZONE
BEGIN:VEVENT
DTSTART;TZID=Europe/Paris:20240702T140000
DTEND;TZID=Europe/Paris:20240702T150000
DTSTAMP:20260421T194757
CREATED:20240430T093244Z
LAST-MODIFIED:20240430T093244Z
UID:13180-1719928800-1719932400@cpias-occitanie.fr
SUMMARY:Webinaire Eco-Nettoyage (14h-15h)
DESCRIPTION:[vc_row][vc_column][vc_column_text]Détails du webinaire[/vc_column_text][/vc_column][/vc_row]
URL:https://cpias-occitanie.fr/evenement/webinaire-eco-nettoyage-14h-15h/
CATEGORIES:Établissements médico-sociaux,Établissements sanitaires
ORGANIZER;CN="CPias%20Occitanie%20Toulouse":MAILTO:cpias-occitanie@chu-toulouse.fr
END:VEVENT
END:VCALENDAR