BEGIN:VCALENDAR
VERSION:2.0
PRODID:-//Centre d’Appui pour la Prévention des Infections Associées aux Soins - ECPv5.12.4//NONSGML v1.0//EN
CALSCALE:GREGORIAN
METHOD:PUBLISH
X-WR-CALNAME:Centre d’Appui pour la Prévention des Infections Associées aux Soins
X-ORIGINAL-URL:https://cpias-occitanie.fr
X-WR-CALDESC:Évènements pour Centre d’Appui pour la Prévention des Infections Associées aux Soins
BEGIN:VTIMEZONE
TZID:Europe/Paris
BEGIN:DAYLIGHT
TZOFFSETFROM:+0100
TZOFFSETTO:+0200
TZNAME:CEST
DTSTART:20230326T010000
END:DAYLIGHT
BEGIN:STANDARD
TZOFFSETFROM:+0200
TZOFFSETTO:+0100
TZNAME:CET
DTSTART:20231029T010000
END:STANDARD
END:VTIMEZONE
BEGIN:VEVENT
DTSTART;TZID=Europe/Paris:20230926T140000
DTEND;TZID=Europe/Paris:20230926T153000
DTSTAMP:20260423T193609
CREATED:20230801T104346Z
LAST-MODIFIED:20231004T133934Z
UID:11246-1695736800-1695742200@cpias-occitanie.fr
SUMMARY:WEBINAIRE : Gestion d'épidémies (ES / EMS)
DESCRIPTION:[vc_row][vc_column][vc_column_text]Accéder à l’enregistrement et au support[/vc_column_text][/vc_column][/vc_row]
URL:https://cpias-occitanie.fr/evenement/webinaire-gestion-dune-epidemie-es-ems/
CATEGORIES:Établissements médico-sociaux,Établissements sanitaires
ORGANIZER;CN="CPias%20Occitanie%20Toulouse":MAILTO:cpias-occitanie@chu-toulouse.fr
END:VEVENT
END:VCALENDAR