BEGIN:VCALENDAR
VERSION:2.0
PRODID:-//Centre d’Appui pour la Prévention des Infections Associées aux Soins - ECPv5.12.4//NONSGML v1.0//EN
CALSCALE:GREGORIAN
METHOD:PUBLISH
X-WR-CALNAME:Centre d’Appui pour la Prévention des Infections Associées aux Soins
X-ORIGINAL-URL:https://cpias-occitanie.fr
X-WR-CALDESC:Évènements pour Centre d’Appui pour la Prévention des Infections Associées aux Soins
BEGIN:VTIMEZONE
TZID:Europe/Paris
BEGIN:DAYLIGHT
TZOFFSETFROM:+0100
TZOFFSETTO:+0200
TZNAME:CEST
DTSTART:20240331T010000
END:DAYLIGHT
BEGIN:STANDARD
TZOFFSETFROM:+0200
TZOFFSETTO:+0100
TZNAME:CET
DTSTART:20241027T010000
END:STANDARD
END:VTIMEZONE
BEGIN:VEVENT
DTSTART;TZID=Europe/Paris:20240625T140000
DTEND;TZID=Europe/Paris:20240625T160000
DTSTAMP:20260421T192509
CREATED:20240604T140402Z
LAST-MODIFIED:20240604T142753Z
UID:13368-1719324000-1719331200@cpias-occitanie.fr
SUMMARY:Webinaire Retour sur les congrès nationaux SF2H - JNI
DESCRIPTION:[vc_row][vc_column][vc_column_text]Le CPias et le CRAtb Occitanie vous proposent un webinaire de retour sur les moments forts du congrès de la SF2H (Nancy\, 5 au 7 juin) et du congrès des JNI (Deauville\, 12 au 14 juin). \n  \nMardi 25 juin : retour SF2H 14h-15h et retour JNI 15h-16h.\n  \n \n  \nCodes de connexion[/vc_column_text][/vc_column][/vc_row]
URL:https://cpias-occitanie.fr/evenement/webinaire-retour-sur-les-congres-nationaux-sf2h-jni/
CATEGORIES:Établissements sanitaires
END:VEVENT
END:VCALENDAR